BEGIN:VCALENDAR
VERSION:2.0
PRODID:-//Chiesa Riano - ECPv6.10.1.1//NONSGML v1.0//EN
CALSCALE:GREGORIAN
METHOD:PUBLISH
X-ORIGINAL-URL:https://chiesariano.it
X-WR-CALDESC:Eventi per Chiesa Riano
REFRESH-INTERVAL;VALUE=DURATION:PT1H
X-Robots-Tag:noindex
X-PUBLISHED-TTL:PT1H
BEGIN:VTIMEZONE
TZID:Europe/Rome
BEGIN:DAYLIGHT
TZOFFSETFROM:+0100
TZOFFSETTO:+0200
TZNAME:CEST
DTSTART:20240331T010000
END:DAYLIGHT
BEGIN:STANDARD
TZOFFSETFROM:+0200
TZOFFSETTO:+0100
TZNAME:CET
DTSTART:20241027T010000
END:STANDARD
END:VTIMEZONE
BEGIN:VEVENT
DTSTART;TZID=Europe/Rome:20240225T190000
DTEND;TZID=Europe/Rome:20240225T200000
DTSTAMP:20260423T203245
CREATED:20240208T184246Z
LAST-MODIFIED:20240208T185102Z
UID:3925-1708887600-1708891200@chiesariano.it
SUMMARY:Corso le "10 Parole" (5^)
DESCRIPTION:C’è un percorso che ogni anno coinvolge centinaia di giovani di tutta Italia e che prova a rispondere alle domande grandi della vita\, come: “Dove cerchi la tua felicità?”. È il corso delle Dieci Parole\, si compone di incontri periodici e ha sede in diverse città del nostro Paese. Chi ha partecipato lo definisce come “una svolta”. Sono soprattutto giovani tra i venti e i trent’anni\, credenti e non credenti\, nessuno escluso. \nL’ideatore del corso è don Fabio Rosini e la prima edizione risale al 1993. In un’intervista ad Avvenire\, Rosini aveva definito le Dieci Parole come “un’esperienza di riconciliazione con Dio. Vera\, profonda\, contagiosa”. I corsi sono nati proprio per i giovani\, ma nel tempo sono stati affiancati da cammini dedicati anche agli over 35. \nL’obiettivo è accompagnare le persone nel “discernimento”\, per consentire loro di “imparare a prendersi la parte migliore della vita”\, si legge sul sito dell’iniziativa. Di solito si viene a conoscenza del corso tramite passa parola. L’entusiasmo di chi partecipa fa sì che anche altri vogliano iscriversi. I contenuti degli incontri non si possono sapere in anticipo: è un invito a scatola chiusa. \nIl corso si terrà presso la Chiesa Madre Maria della Chiesa esarà tenuto da Don Salvatore Baretta
URL:https://chiesariano.it/event/corso_10parole5/
CATEGORIES:CATECHESI
ATTACH;FMTTYPE=image/jpeg:https://chiesariano.it/wp-content/uploads/2024/02/rosini_baretta.jpg
END:VEVENT
BEGIN:VEVENT
DTSTART;TZID=Europe/Rome:20240218T190000
DTEND;TZID=Europe/Rome:20240218T200000
DTSTAMP:20260423T203245
CREATED:20240208T183655Z
LAST-MODIFIED:20240208T185122Z
UID:3917-1708282800-1708286400@chiesariano.it
SUMMARY:Corso le "10 Parole" (4^)
DESCRIPTION:C’è un percorso che ogni anno coinvolge centinaia di giovani di tutta Italia e che prova a rispondere alle domande grandi della vita\, come: “Dove cerchi la tua felicità?”. È il corso delle Dieci Parole\, si compone di incontri periodici e ha sede in diverse città del nostro Paese. Chi ha partecipato lo definisce come “una svolta”. Sono soprattutto giovani tra i venti e i trent’anni\, credenti e non credenti\, nessuno escluso. \nL’ideatore del corso è don Fabio Rosini e la prima edizione risale al 1993. In un’intervista ad Avvenire\, Rosini aveva definito le Dieci Parole come “un’esperienza di riconciliazione con Dio. Vera\, profonda\, contagiosa”. I corsi sono nati proprio per i giovani\, ma nel tempo sono stati affiancati da cammini dedicati anche agli over 35. \nL’obiettivo è accompagnare le persone nel “discernimento”\, per consentire loro di “imparare a prendersi la parte migliore della vita”\, si legge sul sito dell’iniziativa. Di solito si viene a conoscenza del corso tramite passa parola. L’entusiasmo di chi partecipa fa sì che anche altri vogliano iscriversi. I contenuti degli incontri non si possono sapere in anticipo: è un invito a scatola chiusa. \nIl corso si terrà presso la Chiesa Madre Maria della Chiesa esarà tenuto da Don Salvatore Baretta
URL:https://chiesariano.it/event/corso_10parole4/
CATEGORIES:CATECHESI
ATTACH;FMTTYPE=image/jpeg:https://chiesariano.it/wp-content/uploads/2024/02/rosini2.jpg
END:VEVENT
BEGIN:VEVENT
DTSTART;TZID=Europe/Rome:20240211T190000
DTEND;TZID=Europe/Rome:20240211T200000
DTSTAMP:20260423T203245
CREATED:20240208T182429Z
LAST-MODIFIED:20240208T185106Z
UID:3901-1707678000-1707681600@chiesariano.it
SUMMARY:Corso le "10 Parole" (3^)
DESCRIPTION:C’è un percorso che ogni anno coinvolge centinaia di giovani di tutta Italia e che prova a rispondere alle domande grandi della vita\, come: “Dove cerchi la tua felicità?”. È il corso delle Dieci Parole\, si compone di incontri periodici e ha sede in diverse città del nostro Paese. Chi ha partecipato lo definisce come “una svolta”. Sono soprattutto giovani tra i venti e i trent’anni\, credenti e non credenti\, nessuno escluso. \nL’ideatore del corso è don Fabio Rosini e la prima edizione risale al 1993. In un’intervista ad Avvenire\, Rosini aveva definito le Dieci Parole come “un’esperienza di riconciliazione con Dio. Vera\, profonda\, contagiosa”. I corsi sono nati proprio per i giovani\, ma nel tempo sono stati affiancati da cammini dedicati anche agli over 35. \nL’obiettivo è accompagnare le persone nel “discernimento”\, per consentire loro di “imparare a prendersi la parte migliore della vita”\, si legge sul sito dell’iniziativa. Di solito si viene a conoscenza del corso tramite passa parola. L’entusiasmo di chi partecipa fa sì che anche altri vogliano iscriversi. I contenuti degli incontri non si possono sapere in anticipo: è un invito a scatola chiusa. \nIl corso si terrà presso la Chiesa Madre Maria della Chiesa esarà tenuto da Don Salvatore Baretta
URL:https://chiesariano.it/event/corso_10parole3/
LOCATION:Chiesa Maria Madre della Chiesa\, Via Rianese 129 /A la Rosta\, Riano\, Italia
CATEGORIES:CATECHESI
ATTACH;FMTTYPE=image/jpeg:https://chiesariano.it/wp-content/uploads/2024/02/rosini1.jpg
END:VEVENT
BEGIN:VEVENT
DTSTART;TZID=Europe/Rome:20240204T190000
DTEND;TZID=Europe/Rome:20240204T200000
DTSTAMP:20260423T203245
CREATED:20240204T180046Z
LAST-MODIFIED:20240208T185157Z
UID:3928-1707073200-1707076800@chiesariano.it
SUMMARY:Corso le "10 Parole"  (2^)
DESCRIPTION:C’è un percorso che ogni anno coinvolge centinaia di giovani di tutta Italia e che prova a rispondere alle domande grandi della vita\, come: “Dove cerchi la tua felicità?”. È il corso delle Dieci Parole\, si compone di incontri periodici e ha sede in diverse città del nostro Paese. Chi ha partecipato lo definisce come “una svolta”. Sono soprattutto giovani tra i venti e i trent’anni\, credenti e non credenti\, nessuno escluso. \nL’ideatore del corso è don Fabio Rosini e la prima edizione risale al 1993. In un’intervista ad Avvenire\, Rosini aveva definito le Dieci Parole come “un’esperienza di riconciliazione con Dio. Vera\, profonda\, contagiosa”. I corsi sono nati proprio per i giovani\, ma nel tempo sono stati affiancati da cammini dedicati anche agli over 35. \nL’obiettivo è accompagnare le persone nel “discernimento”\, per consentire loro di “imparare a prendersi la parte migliore della vita”\, si legge sul sito dell’iniziativa. Di solito si viene a conoscenza del corso tramite passa parola. L’entusiasmo di chi partecipa fa sì che anche altri vogliano iscriversi. I contenuti degli incontri non si possono sapere in anticipo: è un invito a scatola chiusa. \nIl corso si terrà presso la Chiesa Madre Maria della Chiesa esarà tenuto da Don Salvatore Baretta
URL:https://chiesariano.it/event/corso_10parole2/
CATEGORIES:CATECHESI
ATTACH;FMTTYPE=image/jpeg:https://chiesariano.it/wp-content/uploads/2024/02/rosini_baretta.jpg
END:VEVENT
BEGIN:VEVENT
DTSTART;TZID=Europe/Rome:20240128T190000
DTEND;TZID=Europe/Rome:20240128T190000
DTSTAMP:20260423T203245
CREATED:20240208T183820Z
LAST-MODIFIED:20240208T185113Z
UID:3921-1706468400-1706468400@chiesariano.it
SUMMARY:Corso le "10 Parole" (1^)
DESCRIPTION:C’è un percorso che ogni anno coinvolge centinaia di giovani di tutta Italia e che prova a rispondere alle domande grandi della vita\, come: “Dove cerchi la tua felicità?”. È il corso delle Dieci Parole\, si compone di incontri periodici e ha sede in diverse città del nostro Paese. Chi ha partecipato lo definisce come “una svolta”. Sono soprattutto giovani tra i venti e i trent’anni\, credenti e non credenti\, nessuno escluso. \nL’ideatore del corso è don Fabio Rosini e la prima edizione risale al 1993. In un’intervista ad Avvenire\, Rosini aveva definito le Dieci Parole come “un’esperienza di riconciliazione con Dio. Vera\, profonda\, contagiosa”. I corsi sono nati proprio per i giovani\, ma nel tempo sono stati affiancati da cammini dedicati anche agli over 35. \nL’obiettivo è accompagnare le persone nel “discernimento”\, per consentire loro di “imparare a prendersi la parte migliore della vita”\, si legge sul sito dell’iniziativa. Di solito si viene a conoscenza del corso tramite passa parola. L’entusiasmo di chi partecipa fa sì che anche altri vogliano iscriversi. I contenuti degli incontri non si possono sapere in anticipo: è un invito a scatola chiusa. \nIl corso si terrà presso la Chiesa Madre Maria della Chiesa esarà tenuto da Don Salvatore Baretta
URL:https://chiesariano.it/event/corso_10parole1/
CATEGORIES:CATECHESI
ATTACH;FMTTYPE=image/jpeg:https://chiesariano.it/wp-content/uploads/2024/02/rosini_baretta.jpg
END:VEVENT
END:VCALENDAR